BEGIN:VCALENDAR
VERSION:2.0
PRODID:-//ChamberMaster//Event Calendar 2.0//EN
METHOD:PUBLISH
X-PUBLISHED-TTL:P3D
REFRESH-INTERVAL:P3D
CALSCALE:GREGORIAN
BEGIN:VEVENT
DTSTART:20180324T110000Z
DTEND:20180324T140000Z
X-MICROSOFT-CDO-ALLDAYEVENT:FALSE
SUMMARY:Zimmerman Kiser Sutcliffe Winter Park Road Race 10k and 2 Mile Presented by Florida Hospital
DESCRIPTION:This is the Grand Finale of the Track Shack Running Series. The 41st annual event is a local tradition. Take a break from your average 5k with a 10k\, 2 mile\, Distance Dare and kids' run the whole family can participate. Run or walk through beautiful\, neighborhood friendly Winter Park. This event sold out last year! Don't delay\, register today! Our title sponsor\, Zimmerman Kiser Sutcliffe is celebrating over 30 years of service in Central Florida. ZKS values a commitment to personal health and supports all those that step out to achieve their wellness goals! Event Highlights   Chip timed races   Gender Specific Tech tee   Pint Glass   Finisher's Medal to 10k participants   Access to Florida Hospital Experts   Sports Towel from Jewett Orthopaedic   Participants over 21 receive a New Belgium Fat Tire and Whizbang Hoppy Blonde   Free Florida Hospital for Children Kids' Run   Distance Dare - Do both races and receive an additional medal!
X-ALT-DESC;FMTTYPE=text/html:This is the Grand Finale of the Track Shack Running Series. The 41st annual event is a local tradition. Take a break from your average 5k with a 10k\, 2 mile\, Distance Dare and kids&rsquo\; run the whole family can participate. Run or walk through beautiful\, neighborhood friendly Winter Park. This event sold out last year! Don&#39\;t delay\, register today! Our title sponsor\, Zimmerman Kiser Sutcliffe is celebrating over 30 years of service in Central Florida. ZKS values a commitment to personal health and supports all those that step out to achieve their wellness goals! Event Highlights &bull\; Chip timed races &bull\; Gender Specific Tech tee &bull\; Pint Glass &bull\; Finisher&#39\;s Medal to 10k participants &bull\; Access to Florida Hospital Experts &bull\; Sports Towel from Jewett Orthopaedic &bull\; Participants over 21 receive a New Belgium Fat Tire and Whizbang Hoppy Blonde &bull\; Free Florida Hospital for Children Kids&#39\; Run &bull\; Distance Dare - Do both races and receive an additional medal!
LOCATION:Park Avenue in Winter Park\, FL 251 Park Avenue North Winter Park\, FL 32789
UID:e.3221.5035186
SEQUENCE:3
DTSTAMP:20260423T082314Z
URL:https://business.winterpark.org/events/details/zimmerman-kiser-sutcliffe-winter-park-road-race-10k-and-2-mile-presented-by-florida-hospital-5035186
END:VEVENT

END:VCALENDAR
