BEGIN:VCALENDAR
VERSION:2.0
PRODID:-//ChamberMaster//Event Calendar 2.0//EN
METHOD:PUBLISH
X-PUBLISHED-TTL:P3D
REFRESH-INTERVAL:P3D
CALSCALE:GREGORIAN
BEGIN:VEVENT
DTSTART:20200315T130000Z
DTEND:20200315T143000Z
X-MICROSOFT-CDO-ALLDAYEVENT:FALSE
SUMMARY:Zen Birding Yoga
DESCRIPTION:Ready to practice your eagle pose with a live eagle? Join us for Zen Birding Yoga at the Audubon Center for Birds of Prey. Enjoy the Center before we're open to the public for a gentle guided yoga class with a certified instructor\, a tour of the Audubon Center and meeting bird ambassadors up close! Our inaugural Zen Birding Yoga will take place March 15\, 2020 from 9 a.m.-10:30 a.m. All experience levels welcome\; please bring your own water bottle and yoga mat. A fee of $15 covers the yoga class\, plus a Center tour and admission. Tickets are required for this event. Namaste!
X-ALT-DESC;FMTTYPE=text/html:Ready to practice your eagle pose with a live eagle? Join us for Zen Birding Yoga at the Audubon Center for Birds of Prey. Enjoy the Center before we&#39\;re open to the public for a gentle guided yoga class with a certified instructor\, a tour of the Audubon Center and meeting bird ambassadors up close! Our inaugural Zen Birding Yoga will take place March 15\, 2020 from 9 a.m.-10:30 a.m. All experience levels welcome\; please bring your own water bottle and yoga mat. A fee of $15 covers the yoga class\, plus a Center tour and admission. Tickets are required for this event. Namaste!
LOCATION:Audubon Center for Birds of Prey 1101 Audubon Way Maitland\, FL 32751
UID:e.3221.5039543
SEQUENCE:3
DTSTAMP:20260421T043701Z
URL:https://business.winterpark.org/events/details/zen-birding-yoga-5039543
END:VEVENT

END:VCALENDAR
