BEGIN:VCALENDAR
VERSION:2.0
PRODID:-//ChamberMaster//Event Calendar 2.0//EN
METHOD:PUBLISH
X-PUBLISHED-TTL:P3D
REFRESH-INTERVAL:P3D
CALSCALE:GREGORIAN
BEGIN:VEVENT
DTSTART:20171114T193400Z
DTEND:20171114T193400Z
X-MICROSOFT-CDO-ALLDAYEVENT:FALSE
SUMMARY:YPWP Professional Development
DESCRIPTION:
X-ALT-DESC;FMTTYPE=text/html:
LOCATION:
UID:e.3221.69331
SEQUENCE:3
DTSTAMP:20260423T170713Z
URL:https://business.winterpark.org/events/details/ypwp-professional-development-11-14-2017-69331
END:VEVENT

END:VCALENDAR
