BEGIN:VCALENDAR
VERSION:2.0
PRODID:-//ChamberMaster//Event Calendar 2.0//EN
METHOD:PUBLISH
X-PUBLISHED-TTL:P3D
REFRESH-INTERVAL:P3D
CALSCALE:GREGORIAN
BEGIN:VEVENT
DTSTART:20170817T210000Z
DTEND:20170818T000000Z
X-MICROSOFT-CDO-ALLDAYEVENT:FALSE
SUMMARY:YPWP Launch Party
DESCRIPTION:
X-ALT-DESC;FMTTYPE=text/html:
LOCATION:Majors Motors
UID:e.3221.64958
SEQUENCE:3
DTSTAMP:20260423T214747Z
URL:https://business.winterpark.org/events/details/ypwp-launch-party-08-17-2017-64958
END:VEVENT

END:VCALENDAR
