BEGIN:VCALENDAR
VERSION:2.0
PRODID:-//ChamberMaster//Event Calendar 2.0//EN
METHOD:PUBLISH
X-PUBLISHED-TTL:P3D
REFRESH-INTERVAL:P3D
CALSCALE:GREGORIAN
BEGIN:VEVENT
DTSTART:20200306T230000Z
DTEND:20200308T030000Z
X-MICROSOFT-CDO-ALLDAYEVENT:FALSE
SUMMARY:Wyland Art Show
DESCRIPTION:Ocean Blue Galleries will host the artist Wyland the 1st weekend in March Don't miss his unbelievable underwater originals and his magnificent bronzes on display on Park Ave at Ocean Blue Galleries
X-ALT-DESC;FMTTYPE=text/html:Ocean Blue Galleries will host the artist Wyland the 1st weekend in March Don&#39\;t miss his unbelievable underwater originals and his magnificent bronzes on display on Park Ave at Ocean Blue Galleries
LOCATION:Ocean Blue Galleries 202 Park Ave S Winter Park\, Fl 32789
UID:e.3221.5039531
SEQUENCE:3
DTSTAMP:20260421T043700Z
URL:https://business.winterpark.org/events/details/wyland-art-show-5039531
END:VEVENT

END:VCALENDAR
