BEGIN:VCALENDAR
VERSION:2.0
PRODID:-//ChamberMaster//Event Calendar 2.0//EN
METHOD:PUBLISH
X-PUBLISHED-TTL:P3D
REFRESH-INTERVAL:P3D
CALSCALE:GREGORIAN
BEGIN:VEVENT
DTSTART:20180404T233000Z
DTEND:20180405T010000Z
X-MICROSOFT-CDO-ALLDAYEVENT:FALSE
SUMMARY:Writings on the Wall: An Evening with Kareem Abdul-Jabbar
DESCRIPTION:After 50 years as an athlete\, activist\, and author\, Abdul-Jabbar offers his personal perspectives on political/racial issues facing America today.
X-ALT-DESC;FMTTYPE=text/html:After 50 years as an athlete\, activist\, and author\, Abdul-Jabbar offers his personal perspectives on political/racial issues facing America today.
LOCATION:Rollins College Alfond Sports Center
UID:e.3221.5035172
SEQUENCE:3
DTSTAMP:20260423T044345Z
URL:https://business.winterpark.org/events/details/writings-on-the-wall-an-evening-with-kareem-abdul-jabbar-5035172
END:VEVENT

END:VCALENDAR
