BEGIN:VCALENDAR
VERSION:2.0
PRODID:-//ChamberMaster//Event Calendar 2.0//EN
METHOD:PUBLISH
X-PUBLISHED-TTL:P3D
REFRESH-INTERVAL:P3D
CALSCALE:GREGORIAN
BEGIN:VEVENT
DTSTART:20230608T220000Z
DTEND:20230609T000000Z
X-MICROSOFT-CDO-ALLDAYEVENT:FALSE
SUMMARY:World Oceans Day Event
DESCRIPTION:I'm excited to invite you Winter Park Chamber members to celebrate World Oceans Day with us at this family-friendly event hosted by Neptune Memorial Reef and Baldwin Fairchild:\n\n- Reef displays and information\n\n- Marine biologist-led volunteer activity & touch tanks\n\n- Beach vibe music by MissingLink Entertainment\n\n- Raffle supporting CEELAB at UCF\n\n\n\nNeptune Memorial Reef is the world's only under-ocean cremation mausoleum. Dignity Memorial is a national funeral provider and the Reef is one of our 2\,000 locations. We're hosting the event at our Dignity venue in Winter Park\, Baldwin Fairchild.
X-ALT-DESC;FMTTYPE=text/html:I&#39\;m excited to invite you Winter Park Chamber members to celebrate World Oceans Day with us at this family-friendly event hosted by Neptune Memorial Reef and Baldwin Fairchild:<br />\n- Reef displays and information<br />\n- Marine biologist-led volunteer activity &amp\; touch tanks<br />\n- Beach vibe music by MissingLink Entertainment<br />\n- Raffle supporting CEELAB at UCF<br />\n<br />\nNeptune Memorial Reef is the world&#39\;s only under-ocean cremation mausoleum. Dignity Memorial is a national funeral provider and the Reef is one of our 2\,000 locations. We&#39\;re hosting the event at our Dignity venue in Winter Park\, Baldwin Fairchild.<br />\n&nbsp\;
LOCATION:Baldwin Fairchild 7520 Aloma Ave Winter Park\, FL 32792
UID:e.3221.5050522
SEQUENCE:3
DTSTAMP:20260421T024944Z
URL:https://business.winterpark.org/events/details/world-oceans-day-event-5050522
END:VEVENT

END:VCALENDAR
