BEGIN:VCALENDAR
VERSION:2.0
PRODID:-//ChamberMaster//Event Calendar 2.0//EN
METHOD:PUBLISH
X-PUBLISHED-TTL:P3D
REFRESH-INTERVAL:P3D
CALSCALE:GREGORIAN
BEGIN:VEVENT
DTSTART:20200320T133000Z
DTEND:20200321T000000Z
X-MICROSOFT-CDO-ALLDAYEVENT:FALSE
SUMMARY:Winter Park Sidewalk Art Festival Open House
DESCRIPTION:Enjoy free admission to the Museum during the Winter Park Sidewalk Art Festival weekend.
X-ALT-DESC;FMTTYPE=text/html:Enjoy free admission to the Museum during the Winter Park Sidewalk Art Festival weekend.
LOCATION:The Charles Hosmer Morse Museum of American Art 445 N. Park Ave. Winter Park\, FL 32789
UID:e.3221.5038668
SEQUENCE:3
DTSTAMP:20260421T044021Z
URL:https://business.winterpark.org/events/details/winter-park-sidewalk-art-festival-open-house-5038668
END:VEVENT

END:VCALENDAR
