BEGIN:VCALENDAR
VERSION:2.0
PRODID:-//ChamberMaster//Event Calendar 2.0//EN
METHOD:PUBLISH
X-PUBLISHED-TTL:P3D
REFRESH-INTERVAL:P3D
CALSCALE:GREGORIAN
BEGIN:VEVENT
DTSTART:20260424T220000Z
DTEND:20260425T010000Z
X-MICROSOFT-CDO-ALLDAYEVENT:FALSE
SUMMARY:Winter Park Garden Party
DESCRIPTION:Step into spring at an afternoon of seasonal sips and garden party charm! Dress in your best spring cocktail attire and enjoy a curated selection of wine\, Champagne and spirits tastings\, with light bites and live music. Stroll\, sip\, and soak in the atmosphere with beautifully styled spring photo moments at our Top Shelf Rooftop at The Good Pour!\n\nTicket Includes:\n\n\n	Wine\, Spirit & Cocktail Tastings\n	Live Music\n	Light Bites\n	$10 Shopping Credit\n\nPurchase Tickets\n\nFriday\, April 24   6-9pm\n\n631 S Orlando Ave\n\nWinter Park\, FL
X-ALT-DESC;FMTTYPE=text/html:<p>Step into spring at an afternoon of seasonal sips and garden party charm! Dress in your best spring cocktail attire and enjoy a curated selection of wine\, Champagne and spirits tastings\, with light bites and live music.&nbsp\;Stroll\, sip\, and soak in the atmosphere with beautifully styled spring photo moments at our Top Shelf Rooftop at The Good Pour!</p>\n\n<p>Ticket Includes:</p>\n\n<ul>\n	<li>Wine\, Spirit &amp\; Cocktail Tastings</li>\n	<li>Live Music</li>\n	<li>Light Bites</li>\n	<li>$10 Shopping Credit</li>\n</ul>\n<a href="https://goodpour.com/collections/tgp-events/products/winter-park-garden-party-april-24?variant=54303315329396">Purchase Tickets</a>\n\n<p>Friday\, April 24 &bull\; 6-9pm<br />\n631 S Orlando Ave<br />\nWinter Park\, FL</p>\n
LOCATION:The Good Pour Winter Park 631 S Orlando Ave\, Suite 101 Winter Park\, FL 32789
UID:e.3221.5057015
SEQUENCE:3
DTSTAMP:20260421T165840Z
URL:https://business.winterpark.org/events/details/winter-park-garden-party-5057015
END:VEVENT

END:VCALENDAR
