BEGIN:VCALENDAR
VERSION:2.0
PRODID:-//ChamberMaster//Event Calendar 2.0//EN
METHOD:PUBLISH
X-PUBLISHED-TTL:P3D
REFRESH-INTERVAL:P3D
CALSCALE:GREGORIAN
BEGIN:VEVENT
DTSTART;VALUE=DATE:20201015
DTEND;VALUE=DATE:20201016
TRANSP:TRANSPARENT
X-MICROSOFT-CDO-ALLDAYEVENT:TRUE
SUMMARY:Wine Pairing Dinner (Wine and Dine)
DESCRIPTION:Event? Details:\n\n\n	\n	$80 per person - inc ludes tax and service fee. Eventbrite fees are NOT included .\n	\n	\n	Available: 48 tickets (S ocial Distancing)\n	\n	\n	Host: Executive Chef\n	\n\n\n?\n\nMarketing\n\n\n	\n	Eventbrite link Octo ber 15th: https://www.eventbri te.com/e/wine-dine-p airing-dinner-bulla- winter-park-tickets- 122317505953\n	\n	\n	Facebook Event lin k: https://www.facebook .com/events/62848137 7841355/
X-ALT-DESC;FMTTYPE=text/html:<p><strong>Event? Details:</strong></p>\n\n<ul>\n	<li>\n	<p><span style="background-color:transparent\; font-size:11pt">$80 per person - inc&shy\;ludes tax and service fee.&nbsp\;Eventbrite fees are NOT included&shy\;.</span></p>\n	</li>\n	<li>\n	<p><strong>Available:</strong><span style="background-color:transparent\; font-size:11pt">&nbsp\;48 tickets (S&shy\;ocial Distancing)</span></p>\n	</li>\n	<li>\n	<p><strong>Host:</strong><span style="background-color:transparent\; font-size:11pt">&nbsp\;Executive Chef</span></p>\n	</li>\n</ul>\n\n<p><em>?</em></p>\n\n<p><strong>Marketing</strong></p>\n\n<ul>\n	<li>\n	<p><span style="background-color:transparent\; font-size:11pt">Eventbrite link Octo&shy\;ber 15</span><span style="background-color:transparent\; font-size:18pt"><span style="font-size:0.6em">th</span></span><span style="background-color:transparent\; font-size:11pt">:&nbsp\;</span><a href="https://www.eventbrite.com/e/wine-dine-pairing-dinner-bulla-winter-park-tickets-122317505953" style="text-decoration-line: none\;"><span style="background-color:transparent\; color:rgb(0\, 91\, 209)\; font-size:11pt">https://www.eventbri&shy\;te.com/e/wine-dine-p&shy\;airing-dinner-bulla-&shy\;winter-park-tickets-&shy\;122317505953</span></a></p>\n	</li>\n	<li>\n	<p><span style="background-color:transparent\; font-size:11pt">Facebook&nbsp\;Event lin&shy\;k:&nbsp\;</span><a href="https://www.facebook.com/events/628481377841355/" style="text-decoration-line: none\;"><span style="background-color:transparent\; color:rgb(0\, 91\, 209)\; font-size:11pt">https://www.facebook&shy\;.com/events/62848137&shy\;7841355/</span></a></p>\n	</li>\n</ul>\n
LOCATION:Bulla Gastrobar 110 S Orlando Ave SUITE #7\, Winter Park\, FL 32789
UID:e.3221.5041408
SEQUENCE:3
DTSTAMP:20260420T190742Z
URL:https://business.winterpark.org/events/details/wine-pairing-dinner-wine-and-dine-5041408
END:VEVENT

END:VCALENDAR
