BEGIN:VCALENDAR
VERSION:2.0
PRODID:-//ChamberMaster//Event Calendar 2.0//EN
METHOD:PUBLISH
X-PUBLISHED-TTL:P3D
REFRESH-INTERVAL:P3D
CALSCALE:GREGORIAN
BEGIN:VEVENT
DTSTART:20240210T150000Z
DTEND:20240210T230000Z
X-MICROSOFT-CDO-ALLDAYEVENT:FALSE
SUMMARY:Walk in the Woods Wellness Retreat
DESCRIPTION:February 10\, 2024\n\n46600 Deep Woods Rd. Paisley\, FL 32767\n\nJoin us in the beautiful Ocala National Forest for a wellness retreat focusing on reflection\, introspection\, connection\, and energizing oneself.\n\nFull Day (9a-6p)\n\nEarly Bird rate (until 12.31.23)- $349\n\nAfter 12.31- $399\n\nDeadline to register is Feb 2
X-ALT-DESC;FMTTYPE=text/html:<h2 style="text-align:center">February 10\, 2024</h2>\n\n<h2 style="text-align:center">46600 Deep Woods Rd. Paisley\, FL 32767</h2>\n\n<h2 style="text-align:center">Join us in the beautiful Ocala National Forest for a wellness retreat focusing on reflection\, introspection\, connection\, and energizing oneself.</h2>\n\n<h2 style="text-align:center">Full Day (9a-6p)</h2>\n\n<h2 style="text-align:center">Early Bird rate (until 12.31.23)- $349</h2>\n\n<h2 style="text-align:center">After 12.31- $399</h2>\n\n<h2 style="text-align:center">Deadline to register is Feb 2</h2>\n
LOCATION:46600 Deep Woods Rd. Paisley\, FL 32767
UID:e.3221.5051906
SEQUENCE:3
DTSTAMP:20260420T084925Z
URL:https://business.winterpark.org/events/details/walk-in-the-woods-wellness-retreat-5051906
END:VEVENT

END:VCALENDAR
