BEGIN:VCALENDAR
VERSION:2.0
PRODID:-//ChamberMaster//Event Calendar 2.0//EN
METHOD:PUBLISH
X-PUBLISHED-TTL:P3D
REFRESH-INTERVAL:P3D
CALSCALE:GREGORIAN
BEGIN:VEVENT
DTSTART:20190217T003000Z
DTEND:20190217T023000Z
X-MICROSOFT-CDO-ALLDAYEVENT:FALSE
SUMMARY:Voctave: Orchestral Debut
DESCRIPTION:Voctave John V. Sinclair\, conductor Members of Bach Festival Orchestra America's freshest vocal sound in their orchestral debut. Well known to a cappella lovers worldwide\, Voctave unites their trademark sound with the Bach Festival Orchestra in a first-of-its-kind concert.
X-ALT-DESC;FMTTYPE=text/html:Voctave John V. Sinclair\, conductor Members of Bach Festival Orchestra America&#39\;s freshest vocal sound in their orchestral debut. Well known to a cappella lovers worldwide\, Voctave unites their trademark sound with the Bach Festival Orchestra in a first-of-its-kind concert.
LOCATION:Knowles Memorial Chapel
UID:e.3221.5035569
SEQUENCE:3
DTSTAMP:20260422T013402Z
URL:https://business.winterpark.org/events/details/voctave-orchestral-debut-5035569
END:VEVENT

END:VCALENDAR
