BEGIN:VCALENDAR
VERSION:2.0
PRODID:-//ChamberMaster//Event Calendar 2.0//EN
METHOD:PUBLISH
X-PUBLISHED-TTL:P3D
REFRESH-INTERVAL:P3D
CALSCALE:GREGORIAN
BEGIN:VEVENT
DTSTART:20201120T160000Z
DTEND:20201120T170000Z
X-MICROSOFT-CDO-ALLDAYEVENT:FALSE
SUMMARY:VIRTUAL TOUR: What Women Want
DESCRIPTION:Join Isaac Gorres '21\, Fred Hicks Curatorial Fellow on a guided tour of this exhibition which celebrates the 100-year anniversary of women's suffrage in the United States. Click the link or go to our Facebook page to join the talk.
X-ALT-DESC;FMTTYPE=text/html:Join Isaac Gorres &lsquo\;21\, Fred Hicks Curatorial Fellow on a guided tour of this exhibition which celebrates the 100-year anniversary of women&rsquo\;s suffrage in the United States. Click the link or go to our Facebook page to join the talk.
LOCATION:Virtual Tour
UID:e.3221.5041417
SEQUENCE:3
DTSTAMP:20260420T134030Z
URL:https://business.winterpark.org/events/details/virtual-tour-what-women-want-5041417
END:VEVENT

END:VCALENDAR
