BEGIN:VCALENDAR
VERSION:2.0
PRODID:-//ChamberMaster//Event Calendar 2.0//EN
METHOD:PUBLISH
X-PUBLISHED-TTL:P3D
REFRESH-INTERVAL:P3D
CALSCALE:GREGORIAN
BEGIN:VEVENT
DTSTART:20201007T213000Z
DTEND:20201007T223000Z
X-MICROSOFT-CDO-ALLDAYEVENT:FALSE
SUMMARY:VIRTUAL HAPPY HOUR TOURS AT THE ALFOND INN
DESCRIPTION:Join us the first Wednesday of each month for a virtual tour of the Alfond Collection of Contemporary Art\, on view at  The Alfond Inn in Winter Park:  Facebook Event Link: https://www.facebook.com/CFAMrollins
X-ALT-DESC;FMTTYPE=text/html:Join us the first Wednesday of each month for a virtual tour of the Alfond Collection of Contemporary Art\, on view at&nbsp\; The Alfond Inn in Winter Park:&nbsp\; Facebook Event Link: https://www.facebook.com/CFAMrollins
LOCATION:https://www.facebook.com/CFAMrollins
UID:e.3221.5041339
SEQUENCE:3
DTSTAMP:20260420T102128Z
URL:https://business.winterpark.org/events/details/virtual-happy-hour-tours-at-the-alfond-inn-5041339
END:VEVENT

END:VCALENDAR
