BEGIN:VCALENDAR
VERSION:2.0
PRODID:-//ChamberMaster//Event Calendar 2.0//EN
METHOD:PUBLISH
X-PUBLISHED-TTL:P3D
REFRESH-INTERVAL:P3D
CALSCALE:GREGORIAN
BEGIN:VEVENT
DTSTART:20201013T220000Z
DTEND:20201013T230000Z
X-MICROSOFT-CDO-ALLDAYEVENT:FALSE
SUMMARY:Virtual Arte y Café con la Curadora: What Women Want
DESCRIPTION:Join CFAM curator Gisela Carbonell on a guided tour of this exhibition that marks the 100-year anniversary of women's suffrage in the United States. Acompa a a la curadora Gisela Carbonell en un recorrido por esta nueva exhibici n que marca el centenario del derecho al voto para las mujeres en los Estados Unidos. Click link to join this virtual tour and use the password CFAM
X-ALT-DESC;FMTTYPE=text/html:Join CFAM curator Gisela Carbonell on a guided tour of this exhibition that marks the 100-year anniversary of women&#39\;s suffrage in the United States. Acompa&ntilde\;a a la curadora Gisela Carbonell en un recorrido por esta nueva exhibici&oacute\;n que marca el centenario del derecho al voto para las mujeres en los Estados Unidos. Click link to join this virtual tour and use the password CFAM
LOCATION:Virtual Tour
UID:e.3221.5041413
SEQUENCE:3
DTSTAMP:20260420T160936Z
URL:https://business.winterpark.org/events/details/virtual-arte-y-caf&#233;-con-la-curadora-what-women-want-5041413
END:VEVENT

END:VCALENDAR
