BEGIN:VCALENDAR
VERSION:2.0
PRODID:-//ChamberMaster//Event Calendar 2.0//EN
METHOD:PUBLISH
X-PUBLISHED-TTL:P3D
REFRESH-INTERVAL:P3D
CALSCALE:GREGORIAN
BEGIN:VEVENT
DTSTART:20231110T160000Z
DTEND:20231110T170000Z
X-MICROSOFT-CDO-ALLDAYEVENT:FALSE
SUMMARY:Tour - The Voice of the People: Freedom of Speech
DESCRIPTION:Explore works from the permanent collection and learn more about how contemporary artists engage in political discourse by exploring a selection of works that examine freedom of speech. \n\nIMAGE: Kota Ezawa (German\, b. 1969) National Anthem (Washington Redskins)\, 2019\, Duratrans transparency and lightbox\, 26 x 47 in.\, Ed. 4 of 5\, 2 AP's\, The Alfond Collection of Contemporary Art\, Rollins Museum of Art. Gift of Barbara '68 and Theodore '68 Alfond 2019.2.20   Kota Ezawa
X-ALT-DESC;FMTTYPE=text/html:<p>Explore works from the permanent collection and learn more about how contemporary artists engage in political discourse by exploring a selection of works that examine freedom of speech.&nbsp\;</p>\n\n<p><strong>IMAGE</strong>: Kota Ezawa (German\, b. 1969)&nbsp\;<em>National Anthem (Washington Redskins)</em>\, 2019\, Duratrans transparency and lightbox\, 26 x 47 in.\, Ed. 4 of 5\, 2 AP&#39\;s\, The Alfond Collection of Contemporary Art\, Rollins Museum of Art. Gift of Barbara &lsquo\;68 and Theodore &lsquo\;68 Alfond 2019.2.20 &copy\; Kota Ezawa&nbsp\;</p>\n
LOCATION:Rollins Museum of Art
UID:e.3221.5051699
SEQUENCE:3
DTSTAMP:20260420T135003Z
URL:https://business.winterpark.org/events/details/tour-the-voice-of-the-people-freedom-of-speech-5051699
END:VEVENT

END:VCALENDAR
