BEGIN:VCALENDAR
VERSION:2.0
PRODID:-//ChamberMaster//Event Calendar 2.0//EN
METHOD:PUBLISH
X-PUBLISHED-TTL:P3D
REFRESH-INTERVAL:P3D
CALSCALE:GREGORIAN
BEGIN:VEVENT
DTSTART:20340921T213000Z
DTEND:20340921T233000Z
X-MICROSOFT-CDO-ALLDAYEVENT:FALSE
SUMMARY:Third Thursday Wine Walk - on the 300 Block
DESCRIPTION:Join us each month for our Third Thursday Wine Walk on Park Avenue an elevated evening of sipping\, strolling\, and discovering the best of Winter Park.\n\nGuests will enjoy curated wine tastings while exploring participating boutiques and businesses along the charming 300 block of Park Ave.\n\nHosted by The Vintage Vault\, this experience offers a perfect blend of fine wine\, local shopping\, and community connection.\n\n?? 5:30 7:30 PM\n\n?? 300 Block of Park Avenue\, Winter Park
X-ALT-DESC;FMTTYPE=text/html:<p>Join us each month for our&nbsp\;<strong>Third Thursday Wine Walk</strong>&nbsp\;on Park Avenue&mdash\;an elevated evening of sipping\, strolling\, and discovering the best of Winter Park.</p>\n\n<p>Guests will enjoy curated wine tastings while exploring participating boutiques and businesses along the charming 300 block of Park Ave.</p>\n\n<p>Hosted by The Vintage Vault\, this experience offers a perfect blend of fine wine\, local shopping\, and community connection.</p>\n\n<p>?? 5:30&ndash\;7:30 PM<br />\n?? 300 Block of Park Avenue\, Winter Park</p>\n
LOCATION:The Vintage Vault\, 323 S Park Ave\, Winter Park
UID:e.3221.5056986
SEQUENCE:3
DTSTAMP:20260421T171312Z
URL:https://business.winterpark.org/events/details/third-thursday-wine-walk-on-the-300-block-09-21-2034-5056986
END:VEVENT

END:VCALENDAR
