BEGIN:VCALENDAR
VERSION:2.0
PRODID:-//ChamberMaster//Event Calendar 2.0//EN
METHOD:PUBLISH
X-PUBLISHED-TTL:P3D
REFRESH-INTERVAL:P3D
CALSCALE:GREGORIAN
BEGIN:VEVENT
DTSTART:20180223T010000Z
DTEND:20180223T023000Z
X-MICROSOFT-CDO-ALLDAYEVENT:FALSE
SUMMARY:The Women of Lockerbie
DESCRIPTION:In 1988\, Pan Am Flight 103 was destroyed by a terrorist bombing. The plane crashed into residential areas of Lockerbie\, Scotland\, killing all 257 passengers and crew on board\, and 11 people on the ground. Set seven years after the attack\, The Women of Lockerbie is the fictional account of a couple from New Jersey who has come to the rolling hills surrounding Lockerbie to honor the anniversary of their son's death aboard the flight. They meet a group of women who are fighting the U.S. government to obtain the clothing of the victims found in the wreckage. The women\, determined to convert an act of hatred into an act of love\, want to wash the clothes of the dead and return them to the victim's families. A poetic drama about a community's response to terrible suffering\, Lockerbie celebrates the triumph of love and connection.\n\n\n\nDirector: Eric Zivot\n\nScenic Designer: Lisa Cody-Rapport\n\nCostume\, Hair\, & Makeup Designer: Seth Schrager\n\nLighting Designer: Kevin Griffin\n\nSound Designer: Ellie Flaum\n\nAssistant Director: Jamila Carryl\n\nStage Manager: Meredith Egan
X-ALT-DESC;FMTTYPE=text/html:<span style="color: rgb(75\, 79\, 86)\; font-family: helvetica\,arial\,sans-serif\; font-size: 14px\;">In 1988\, Pan Am Flight 103 was destroyed by a terrorist bombing. The plane crashed into residential areas of Lockerbie\, Scotland\, killing all 257 passengers and crew on board\, and 11 people on the ground. Set seven years after the attack\, The Women of Lockerbie is the fictional account of a couple from New Jersey who has come to the rolling hills surrounding Lockerbie to honor the anniversary of their son&rsquo\;s death aboard the flight. They meet a group of women who are fighting the U.S. government to obtain the clothing of the victims found in the wreckage. The women\, determined to convert an act of hatred into an act of love\, want to wash the clothes of the dead and return them to the victim&rsquo\;s families. A poetic&nbsp\;</span><span style="color: rgb(75\, 79\, 86)\; font-family: helvetica\,arial\,sans-serif\; font-size: 14px\;">drama about a community&rsquo\;s response to terrible suffering\, Lockerbie celebrates the triumph of love and connection.<br />\n<br />\nDirector:&nbsp\;<a href="https://www.facebook.com/eric.zivot" style="color: rgb(54\, 88\, 153)\; font-family: inherit\; text-decoration-line: none\;">Eric Zivot</a><br />\nScenic Designer:&nbsp\;<a href="https://www.facebook.com/lcodyrapport" style="color: rgb(54\, 88\, 153)\; font-family: inherit\; text-decoration-line: none\;">Lisa Cody-Rapport</a><br />\nCostume\, Hair\, &amp\; Makeup Designer:&nbsp\;<a href="https://www.facebook.com/seth.schrager" style="color: rgb(54\, 88\, 153)\; font-family: inherit\; text-decoration-line: none\;">Seth Schrager</a><br />\nLighting Designer:&nbsp\;<a href="https://www.facebook.com/KevinEGriffin" style="color: rgb(54\, 88\, 153)\; font-family: inherit\; text-decoration-line: none\;">Kevin Griffin</a><br />\nSound Designer:&nbsp\;<a href="https://www.facebook.com/ellie.flaum" style="color: rgb(54\, 88\, 153)\; font-family: inherit\; text-decoration-line: none\;">Ellie Flaum</a><br />\nAssistant Director:&nbsp\;<a href="https://www.facebook.com/jamila.carryl" style="color: rgb(54\, 88\, 153)\; font-family: inherit\; text-decoration-line: none\;">Jamila Carryl</a><br />\nStage Manager:&nbsp\;<a href="https://www.facebook.com/meredith.egan.5" style="color: rgb(54\, 88\, 153)\; font-family: inherit\; text-decoration-line: none\;">Meredith Egan</a></span>
LOCATION:1000 Holt Ave\, Winter Park\, FL 32789
UID:e.3221.5035193
SEQUENCE:3
DTSTAMP:20260423T113348Z
URL:https://business.winterpark.org/events/details/the-women-of-lockerbie-02-22-2018-5035193
END:VEVENT

END:VCALENDAR
