BEGIN:VCALENDAR
VERSION:2.0
PRODID:-//ChamberMaster//Event Calendar 2.0//EN
METHOD:PUBLISH
X-PUBLISHED-TTL:P3D
REFRESH-INTERVAL:P3D
CALSCALE:GREGORIAN
BEGIN:VEVENT
DTSTART:20200503T180000Z
DTEND:20200503T193000Z
X-MICROSOFT-CDO-ALLDAYEVENT:FALSE
SUMMARY:The Very Last Green Thing
DESCRIPTION:The Very Last Green Thing features the Opera Orlando Youth Company and tackles some timely issues. Journey to a classroom in the year 2413 where a group of students is raised and taught by an android. On a rare field trip "outside\," a shy and obedient child named Amy unexpectedly discovers the very last green thing on Earth. Soon she must confront the truth and make important choices as the secrets of the past are uncovered.\n\nWith libretto and music by Cary John Franklin and Michael Patrick Albano\, The Very Last Green Thing uses the medium of opera to encourage young people to think about their environment\, their role in protecting that environment\, and how their actions today affect the world of tomorrow. Meet the cast and enjoy a post-performance reception immediately following each show.
X-ALT-DESC;FMTTYPE=text/html:<p><strong><em>The Very Last Green Thing</em> </strong>features the <strong>Opera Orlando Youth Company</strong> and tackles some timely issues. Journey to a classroom in the year 2413 where a group of students is raised and taught by an android. On a rare field trip &ldquo\;outside\,&rdquo\; a shy and obedient child named Amy unexpectedly discovers the very last green thing on Earth. Soon she must confront the truth and make important choices as the secrets of the past are uncovered.</p>\n\n<p>With libretto and music by <strong>Cary John Franklin</strong> and <strong>Michael Patrick Albano</strong>\, <strong><em>The Very Last Green Thing</em></strong> uses the medium of opera to encourage young people to think about their environment\, their role in protecting that environment\, and how their actions today affect the world of tomorrow. Meet the cast and enjoy a post-performance reception immediately following each show.</p>\n
LOCATION:Walt Disney Amphitheater at Lake Eola 195 N Rosalind Ave\, Orlando\, FL 32801
UID:e.3221.5039412
SEQUENCE:3
DTSTAMP:20260421T011044Z
URL:https://business.winterpark.org/events/details/the-very-last-green-thing-05-03-2020-5039412
END:VEVENT

END:VCALENDAR
