BEGIN:VCALENDAR
VERSION:2.0
PRODID:-//ChamberMaster//Event Calendar 2.0//EN
METHOD:PUBLISH
X-PUBLISHED-TTL:P3D
REFRESH-INTERVAL:P3D
CALSCALE:GREGORIAN
BEGIN:VEVENT
DTSTART:20200622T160000Z
DTEND:20200622T164500Z
X-MICROSOFT-CDO-ALLDAYEVENT:FALSE
SUMMARY:The Power of Art in Moments of Crisis
DESCRIPTION:What is the role of art museums during moments of crisis? How are institutions and contemporary artists addressing public health and racial justice issues? How does artistic creation document moments of personal and collective crisis? Join CFAM's Director Ena Heller\, Curator Gisela Carbonell\, and Consulting Curator of Contemporary Art Abigail Ross Goodman for a lively conversation about the importance of creating and engaging with art in these times.\n\n\n\n \n\nWebex Link and password to join:\n\nhttps://tinyurl.com/ydeuamdq\n\nPassword: CFAM\n\n\n\n\n\n\n\nImage caption: For Freedoms\, Hank Willis Thomas\, Emily Shur\, Freedom from Fear\, 2018\, Archival pigment print The Alfond Collection of Contemporary Art at Rollins College\, Gift of Barbara '68 and Theodore '68 Alfond. 2018.1.28   For Freedoms
X-ALT-DESC;FMTTYPE=text/html:<p>What is the role of art museums during moments of crisis? How are institutions and contemporary artists addressing public health and racial justice issues? How does artistic creation document moments of personal and collective crisis? Join CFAM&rsquo\;s Director Ena Heller\, Curator Gisela Carbonell\, and Consulting Curator of Contemporary Art Abigail Ross Goodman for a lively conversation about the importance of creating and engaging with art in these times.<br />\n<br />\n&nbsp\;</p>\n\n<p><strong>Webex Link and password to join:</strong></p>\n\n<p><u>https://tinyurl.com/ydeuamdq</u><br />\nPassword: CFAM<br />\n<br />\n<br />\n<br />\n<span style="color:rgb(0\, 0\, 0)\; font-family:times"><strong>Image caption: </strong></span>For Freedoms\, Hank Willis Thomas\, Emily Shur\, <em>Freedom from Fear\,</em> 2018\, Archival pigment print The Alfond Collection of Contemporary Art at Rollins College\, Gift of Barbara &rsquo\;68 and Theodore &rsquo\;68 Alfond. 2018.1.28 &copy\; For Freedom<span style="font-family:times">s</span></p>\n
LOCATION:https://tinyurl.com/ydeuamdq
UID:e.3221.5041074
SEQUENCE:3
DTSTAMP:20260420T234534Z
URL:https://business.winterpark.org/events/details/the-power-of-art-in-moments-of-crisis-5041074
END:VEVENT

END:VCALENDAR
