BEGIN:VCALENDAR
VERSION:2.0
PRODID:-//ChamberMaster//Event Calendar 2.0//EN
METHOD:PUBLISH
X-PUBLISHED-TTL:P3D
REFRESH-INTERVAL:P3D
CALSCALE:GREGORIAN
BEGIN:VEVENT
DTSTART:20180228T170000Z
DTEND:20180228T181500Z
X-MICROSOFT-CDO-ALLDAYEVENT:FALSE
SUMMARY:The Hot Seat
DESCRIPTION:Raised in Winter Park\, Paul Twyford and his business partner\, Andrew Asher\, co-founded the Winter Park Distilling Company back in 2010. What started as a single handmade 50-gallon still and some old recipes for whiskey\, has now flourished into Orange County's first and finest craft distillery. Come hear from Paul as he takes on the hot seat and tells his story about building a successful business.
X-ALT-DESC;FMTTYPE=text/html:<span style="color:#000000\;"><span style="font-size:14px\;"><span style="font-family:arial\;"><span style="white-space: pre-wrap\;">Raised in Winter Park\, Paul Twyford and his business partner\, Andrew Asher\, co-founded the Winter Park Distilling Company back in 2010. What started as a single handmade 50-gallon still and some old recipes for whiskey\, has now flourished into Orange County&#39\;s first and finest craft distillery. Come hear from Paul as he takes on the hot seat and tells his story about building a successful business. </span></span></span></span>
LOCATION:Winter Park Chamber of Commerce 151 West Lyman Avenue Winter Park\, FL 32789
UID:e.3221.5035122
SEQUENCE:3
DTSTAMP:20260423T112336Z
URL:https://business.winterpark.org/events/details/the-hot-seat-5035122
END:VEVENT

END:VCALENDAR
