BEGIN:VCALENDAR
VERSION:2.0
PRODID:-//ChamberMaster//Event Calendar 2.0//EN
METHOD:PUBLISH
X-PUBLISHED-TTL:P3D
REFRESH-INTERVAL:P3D
CALSCALE:GREGORIAN
BEGIN:VEVENT
DTSTART;VALUE=DATE:20201023
DTEND;VALUE=DATE:20201024
TRANSP:TRANSPARENT
X-MICROSOFT-CDO-ALLDAYEVENT:TRUE
SUMMARY:The High Note - Episode 13
DESCRIPTION:A FREE\, monthly livestream featuring updates\, interviews\, and more from Opera Orlando\, hosted by executive director and Grammy award-winning baritone Gabriel Preisser.\nTune in for all things opera in Orlando. This October episode will feature members of the cast from Opera Orlando's MainStage production Die Fledermaus: The Revenge of the Bat\, with special behind the scenes footage of rehearsals in anticipation of opening night\, October 30.
X-ALT-DESC;FMTTYPE=text/html:<div>&nbsp\;</div>\n\n<div>\n<p><span style="font-family:roboto\,sans-serif\; font-size:11pt">A FREE\, monthly livestream featuring updates\, interviews\, and more from Opera Orlando\, hosted by executive director and Grammy award-winning baritone Gabriel Preisser.</span></p>\n<span style="color:rgb(0\, 0\, 0)\; font-family:roboto\,sans-serif\; font-size:11pt">Tune in for all things opera in Orlando. This October episode will feature members of the cast from </span><span style="background-color:transparent\; color:rgb(0\, 0\, 0)\; font-family:roboto\,sans-serif\; font-size:11pt">Opera Orlando</span><span style="color:rgb(0\, 0\, 0)\; font-family:roboto\,sans-serif\; font-size:11pt">&lsquo\;s </span><a href="http://operaorlando.org/mainstage" style="text-decoration: none\;"><span style="background-color:transparent\; color:rgb(0\, 0\, 0)\; font-family:roboto\,sans-serif\; font-size:11pt">MainStage</span></a><span style="color:rgb(0\, 0\, 0)\; font-family:roboto\,sans-serif\; font-size:11pt"> production </span><a href="http://operaorlando.org/fledermaus" style="text-decoration: none\;"><em>Die Fledermaus: The Revenge of the Bat</em></a><span style="color:rgb(0\, 0\, 0)\; font-family:roboto\,sans-serif\; font-size:11pt">\, with special behind the scenes footage of rehearsals in anticipation of opening night\, October 30.</span></div>\n
LOCATION:To access the livestreams and to stay up to date with Opera Orlando\, "like" our Facebook page: www.facebook.com/operaorlando
UID:e.3221.5041322
SEQUENCE:3
DTSTAMP:20260420T101750Z
URL:https://business.winterpark.org/events/details/the-high-note-episode-13-5041322
END:VEVENT

END:VCALENDAR
