BEGIN:VCALENDAR
VERSION:2.0
PRODID:-//ChamberMaster//Event Calendar 2.0//EN
METHOD:PUBLISH
X-PUBLISHED-TTL:P3D
REFRESH-INTERVAL:P3D
CALSCALE:GREGORIAN
BEGIN:VEVENT
DTSTART;VALUE=DATE:20200925
DTEND;VALUE=DATE:20200926
TRANSP:TRANSPARENT
X-MICROSOFT-CDO-ALLDAYEVENT:TRUE
SUMMARY:The High Note - Episode 12
DESCRIPTION:A FREE\, monthly live stream featuring updates\, interviews\, and more from Opera Orlando\, hosted by executive director and Grammy award-winning baritone Gabriel Preisser.\nTune in for all things opera in Orlando. This July episode features Die Fledermaus: The Revenge of the Bat\, Opera Orlando's first MainStageproduction of the season. Get a sneak peek into how the production is coming together and how social distancing will play a role in the rehearsal process and the production itself.
X-ALT-DESC;FMTTYPE=text/html:<p><span style="color:rgb(0\, 0\, 0)"><span style="font-family:roboto\,sans-serif\; font-size:11pt">A FREE\, monthly live stream featuring updates\, interviews\, and more from Opera Orlando\, hosted by executive director and Grammy award-winning baritone Gabriel Preisser.</span></span></p>\n<span style="color:rgb(0\, 0\, 0)"><span style="font-family:roboto\,sans-serif\; font-size:11pt">Tune in for all things opera in Orlando. This July episode features </span><a href="http://operaorlando.org/fledermaus" style="text-decoration: none\;"><em>Die Fledermaus: The Revenge of the Bat</em></a><span style="font-family:roboto\,sans-serif\; font-size:11pt">\, </span><span style="background-color:transparent\; font-family:roboto\,sans-serif\; font-size:11pt">Opera Orlando</span><span style="font-family:roboto\,sans-serif\; font-size:11pt">&rsquo\;s first </span><a href="http://operaorlando.org/mainstage" style="text-decoration: none\;"><span style="background-color:transparent\; color:rgb(0\, 0\, 0)\; font-family:roboto\,sans-serif\; font-size:11pt">MainStage</span></a><span style="font-family:roboto\,sans-serif\; font-size:11pt">production of the season. Get a sneak peek into how the production is coming together and how social distancing will play a role in the rehearsal process and the production itself.</span></span>
LOCATION:To access the livestreams and to stay up to date with Opera Orlando\, "like" our Facebook page: www.facebook.com/operaorlando
UID:e.3221.5041321
SEQUENCE:3
DTSTAMP:20260420T141857Z
URL:https://business.winterpark.org/events/details/the-high-note-episode-12-5041321
END:VEVENT

END:VCALENDAR
