BEGIN:VCALENDAR
VERSION:2.0
PRODID:-//ChamberMaster//Event Calendar 2.0//EN
METHOD:PUBLISH
X-PUBLISHED-TTL:P3D
REFRESH-INTERVAL:P3D
CALSCALE:GREGORIAN
BEGIN:VEVENT
DTSTART:20231124T170000Z
DTEND:20231126T170000Z
X-MICROSOFT-CDO-ALLDAYEVENT:FALSE
SUMMARY:Thanksgiving Weekend Celebration
DESCRIPTION:Admission to the Charles Hosmer Morse Museum of American Art will be free Friday\, November 24\, Saturday\, November 25\, and Sunday\, November 26\, to celebrate Thanksgiving weekend. The Beautiful Music Jazz Quartet will play in the galleries from 5 p.m. to 8 p.m. on Friday.
X-ALT-DESC;FMTTYPE=text/html:Admission to the Charles Hosmer Morse Museum of American Art will be free Friday\, November 24\, Saturday\, November 25\, and Sunday\, November 26\, to celebrate Thanksgiving weekend. The Beautiful Music Jazz Quartet will play in the galleries from 5 p.m. to 8 p.m. on Friday.
LOCATION:The Charles Hosmer Morse Museum of American Art 445 N. Park Ave.\, Winter Park\, FL 32789
UID:e.3221.5051933
SEQUENCE:3
DTSTAMP:20260420T134532Z
URL:https://business.winterpark.org/events/details/thanksgiving-weekend-celebration-11-24-2023-5051933
END:VEVENT

END:VCALENDAR
