BEGIN:VCALENDAR
VERSION:2.0
PRODID:-//ChamberMaster//Event Calendar 2.0//EN
METHOD:PUBLISH
X-PUBLISHED-TTL:P3D
REFRESH-INTERVAL:P3D
CALSCALE:GREGORIAN
BEGIN:VEVENT
DTSTART:20200213T173000Z
DTEND:20200213T183000Z
X-MICROSOFT-CDO-ALLDAYEVENT:FALSE
SUMMARY:Talk | Music and Parkinson's
DESCRIPTION:Discover the promising benefits music may have for those with Parkinson's. Bass-baritone and Chair of Vocal Studies at UCLA\, Michael Dean\, will share his extensive research and encouraging results. Join us on Thursday\, February 13 at 12:30 p.m. at the Crosby Center for Health & Wellbeing in Winter Park for this free event.
X-ALT-DESC;FMTTYPE=text/html:Discover the promising benefits music may have for those with Parkinson&#39\;s. Bass-baritone and Chair of Vocal Studies at UCLA\, Michael Dean\, will share his extensive research and encouraging results. Join us on Thursday\, February 13 at 12:30 p.m. at the Crosby Center for Health &amp\; Wellbeing in Winter Park for this free event.
LOCATION:2005 Mizell Ave Suite 800\, Winter Park\, FL 32792
UID:e.3221.5039525
SEQUENCE:3
DTSTAMP:20260421T055117Z
URL:https://business.winterpark.org/events/details/talk-music-and-parkinson-s-5039525
END:VEVENT

END:VCALENDAR
