BEGIN:VCALENDAR
VERSION:2.0
PRODID:-//ChamberMaster//Event Calendar 2.0//EN
METHOD:PUBLISH
X-PUBLISHED-TTL:P3D
REFRESH-INTERVAL:P3D
CALSCALE:GREGORIAN
BEGIN:VEVENT
DTSTART:20190226T130000Z
DTEND:20190226T214500Z
X-MICROSOFT-CDO-ALLDAYEVENT:FALSE
SUMMARY:Suze Orman\, Jillian Michaels and Sharon Lechter LIVE ORLANDO
DESCRIPTION:Suze Orman\, Jillian Michaels and Sharon Lechter LIVE ORLANDO Get Motivated! is a high energy\, life changing day long event. Take Charge of Your Life! SPECIAL GUEST SPEAKERS: Suze Orman - America's most recognized expert on Personal Finance Jillian Michaels - America's top Personal Trainer\, Businesswoman\, Author and Television Personality Sharon Lechter - Co-Author of Rich Dad Poor Dad\, Entrepreneur and only woman inducted into Personal Development Hall of Fame Brian Forte - America's most recognized and experienced Entrepreneurial Business Trainer Come listen to World Renowned speakers for a day of Motivation and Inspiration speak on Motivation\, Leadership\, Business Skills\, Personal Development\, Sales\, and more. Get Motivated! Seminars have reached over 10 million people over the past 30 years and every Fortune 1000 company. Those that have graced our stage include 6 US Presidents\, countless Heads of State\, and the world's most successful personalities from sports\, media\, politics\, business\, finance and entertainment. Visit the Get Motivated! website to see scheduled lineup for your city. Get Motivated! Seminars is energetic and entertaining and the most informative event that you will attend. ONE DAY WILL CHANGE YOUR LIFE FOREVER!
X-ALT-DESC;FMTTYPE=text/html:Suze Orman\, Jillian Michaels and Sharon Lechter LIVE ORLANDO Get Motivated! is a high energy\, life changing day long event. Take Charge of Your Life! SPECIAL GUEST SPEAKERS: Suze Orman - America's most recognized expert on Personal Finance Jillian Michaels - America's top Personal Trainer\, Businesswoman\, Author and Television Personality Sharon Lechter - Co-Author of Rich Dad Poor Dad\, Entrepreneur and only woman inducted into Personal Development Hall of Fame Brian Forte - America's most recognized and experienced Entrepreneurial Business Trainer Come listen to World Renowned speakers for a day of Motivation and Inspiration speak on Motivation\, Leadership\, Business Skills\, Personal Development\, Sales\, and more. Get Motivated! Seminars have reached over 10 million people over the past 30 years and every Fortune 1000 company. Those that have graced our stage include 6 US Presidents\, countless Heads of State\, and the world's most successful personalities from sports\, media\, politics\, business\, finance and entertainment. Visit the Get Motivated! website to see scheduled lineup for your city. Get Motivated! Seminars is energetic and entertaining and the most informative event that you will attend. ONE DAY WILL CHANGE YOUR LIFE FOREVER!
LOCATION:Bob Carr Theater 401 West Livingston Street Orlando\, FL 32801
UID:e.3221.5035969
SEQUENCE:3
DTSTAMP:20260422T015500Z
URL:https://business.winterpark.org/events/details/suze-orman-jillian-michaels-and-sharon-lechter-live-orlando-5035969
END:VEVENT

END:VCALENDAR
