BEGIN:VCALENDAR
VERSION:2.0
PRODID:-//ChamberMaster//Event Calendar 2.0//EN
METHOD:PUBLISH
X-PUBLISHED-TTL:P3D
REFRESH-INTERVAL:P3D
CALSCALE:GREGORIAN
BEGIN:VEVENT
DTSTART:20200208T003000Z
DTEND:20200208T023000Z
X-MICROSOFT-CDO-ALLDAYEVENT:FALSE
SUMMARY:Stefan Kiessling\, organ
DESCRIPTION:Continuing the tradition of bringing world-class organists to our Bach Festival\, we present organist Stefan Kiessling who has performed at St. Thomas Kirche in Leipzig. Mr. Kiessling's repertoire will include the music of J.S. Bach and beyond.
X-ALT-DESC;FMTTYPE=text/html:Continuing the tradition of bringing world-class organists to our Bach Festival\, we present organist Stefan Kiessling who has performed at St. Thomas Kirche in Leipzig. Mr. Kiessling&lsquo\;s repertoire will include the music of J.S. Bach and beyond.
LOCATION:The Knowles Memorial Chapel in Winter Park. 1000 Holt Avenue\, Winter Park\, Florida 32789.
UID:e.3221.5037947
SEQUENCE:3
DTSTAMP:20260421T055155Z
URL:https://business.winterpark.org/events/details/stefan-kiessling-organ-02-07-2020-5037947
END:VEVENT

END:VCALENDAR
