BEGIN:VCALENDAR
VERSION:2.0
PRODID:-//ChamberMaster//Event Calendar 2.0//EN
METHOD:PUBLISH
X-PUBLISHED-TTL:P3D
REFRESH-INTERVAL:P3D
CALSCALE:GREGORIAN
BEGIN:VEVENT
DTSTART:20180223T163000Z
DTEND:20180223T183000Z
X-MICROSOFT-CDO-ALLDAYEVENT:FALSE
SUMMARY:State of the City Luncheon
DESCRIPTION:The Winter Park Chamber of Commerce and the City of Winter Park invite you to attend the annual "State of the City" Address luncheon. The event will feature Winter Park Mayor Steve Leary's annual State of the City Address and the presentation of the city's Employees of the Year.
X-ALT-DESC;FMTTYPE=text/html:<span style="font-size:14px\;"><span style="font-family:arial\;">The Winter Park Chamber of Commerce and the City of Winter Park invite you to attend the annual &ldquo\;State of the City&rdquo\; Address luncheon. The event will feature Winter Park Mayor Steve Leary&rsquo\;s annual State of the City Address and the presentation of the city&rsquo\;s Employees of the Year.</span></span><br />\n&nbsp\;
LOCATION:The Alfond Inn 300 E New England Avenue Winter Park\, FL 32789
UID:e.3221.5034973
SEQUENCE:3
DTSTAMP:20260423T095435Z
URL:https://business.winterpark.org/events/details/state-of-the-city-luncheon-5034973
END:VEVENT

END:VCALENDAR
