BEGIN:VCALENDAR
VERSION:2.0
PRODID:-//ChamberMaster//Event Calendar 2.0//EN
METHOD:PUBLISH
X-PUBLISHED-TTL:P3D
REFRESH-INTERVAL:P3D
CALSCALE:GREGORIAN
BEGIN:VEVENT
DTSTART:20180331T140000Z
DTEND:20180331T190000Z
X-MICROSOFT-CDO-ALLDAYEVENT:FALSE
SUMMARY:Spring Cleaning Stuff the Truck event
DESCRIPTION:It's time for our First Annual Spring Cleaning Stuff the Truck event at the BGCCF Thrift Store! Please bring your lightly used housewares\, clothing\, and furniture to the store to help us replenish our inventory and fund programming for our over 15\,000 Club members. Enjoy 10% off your shopping as a thank you for your donation during our event. P.S. Donations can be accepted 7 days a week if you can't make it to our event!
X-ALT-DESC;FMTTYPE=text/html:It&#39\;s time for our First Annual Spring Cleaning Stuff the Truck event at the BGCCF Thrift Store! Please bring your lightly used housewares\, clothing\, and furniture to the store to help us replenish our inventory and fund programming for our over 15\,000 Club members. Enjoy 10% off your shopping as a thank you for your donation during our event. P.S. Donations can be accepted 7 days a week if you can&#39\;t make it to our event!
LOCATION:Boys & Girls Clubs Thrift Store 2054 State Road 436 Winter Park\, FL 32792
UID:e.3221.5035259
SEQUENCE:3
DTSTAMP:20260423T210428Z
URL:https://business.winterpark.org/events/details/spring-cleaning-stuff-the-truck-event-5035259
END:VEVENT

END:VCALENDAR
