BEGIN:VCALENDAR
VERSION:2.0
PRODID:-//ChamberMaster//Event Calendar 2.0//EN
METHOD:PUBLISH
X-PUBLISHED-TTL:P3D
REFRESH-INTERVAL:P3D
CALSCALE:GREGORIAN
BEGIN:VEVENT
DTSTART:20200223T210000Z
DTEND:20200223T223000Z
X-MICROSOFT-CDO-ALLDAYEVENT:FALSE
SUMMARY:Spiritual Spaces: Reflect\, Restore\, and Revive
DESCRIPTION:Experience a Bach Festival favorite listening to classical music's most tuneful and elegant music with the hope of bringing calm reflection and healing restoration. Revive your soul through inspiring music.
X-ALT-DESC;FMTTYPE=text/html:<span style="font-size:14px"><span style="background-color:rgb(255\, 255\, 255)\; font-family:arial">Experience a Bach Festival favorite&mdash\;listening to classical music&rsquo\;s most tuneful and elegant music with the hope of bringing calm reflection and healing restoration. Revive your soul through inspiring music.</span></span>
LOCATION:The Knowles Memorial Chapel in Winter Park. 1000 Holt Avenue\, Winter Park\, Florida 32789.
UID:e.3221.5037925
SEQUENCE:3
DTSTAMP:20260421T055208Z
URL:https://business.winterpark.org/events/details/spiritual-spaces-reflect-restore-and-revive-5037925
END:VEVENT

END:VCALENDAR
