BEGIN:VCALENDAR
VERSION:2.0
PRODID:-//ChamberMaster//Event Calendar 2.0//EN
METHOD:PUBLISH
X-PUBLISHED-TTL:P3D
REFRESH-INTERVAL:P3D
CALSCALE:GREGORIAN
BEGIN:VEVENT
DTSTART:20170720T210000Z
DTEND:20170720T223000Z
X-MICROSOFT-CDO-ALLDAYEVENT:FALSE
SUMMARY:Social Media Soiree
DESCRIPTION:
X-ALT-DESC;FMTTYPE=text/html:
LOCATION:Winter Park Chamber of Commerce
UID:e.3221.56494
SEQUENCE:3
DTSTAMP:20260423T233540Z
URL:https://business.winterpark.org/events/details/social-media-soiree-07-20-2017-56494
END:VEVENT

END:VCALENDAR
