BEGIN:VCALENDAR
VERSION:2.0
PRODID:-//ChamberMaster//Event Calendar 2.0//EN
METHOD:PUBLISH
X-PUBLISHED-TTL:P3D
REFRESH-INTERVAL:P3D
CALSCALE:GREGORIAN
BEGIN:VEVENT
DTSTART:20231117T223000Z
DTEND:20231118T010000Z
X-MICROSOFT-CDO-ALLDAYEVENT:FALSE
SUMMARY:Sipping for Scholarships charity event -presented by nonPareil Institute Orlando\, Building Better Futures for Adults with Autism
DESCRIPTION:Sipping for a purpose!\n\n			 \n\n			You are cordially invited to our 2023 Sipping for Scholarships Charity event presented by nonPareil Institute Orlando.\n\n			 \n\n			Join the movement to "Build better futures for adults with autism" in Central Florida. Let's celebrate their work\, transform lives and the magic of inclusion\, all while raising money to provide financial hardship scholarships. \n\n			 \n\n			Sponsorship Packages Available!\n\n			If you would like to become an event sponsor\, please contact Nelia Castro at ncastro@npitx.org or Lisa Lopez at Llopez@npitx.org\n\n			\n				\n					\n						Register here!\n					\n				\n			\n\n			 \n\n			 \n\n			 \n\n			 \n			Click here to register to our Sipping for Scholarships event: https://linktr.ee/nporlando\n\n			 \n\n			If you would like to know more about nonPareil Institute\, click here: NonPareil - Building better futures for Adults with Autism. (npusa.org)
X-ALT-DESC;FMTTYPE=text/html:<table align="left" border="0" cellpadding="0" cellspacing="0" style="margin-left:6.75pt\; margin-right:6.75pt\; width:100.0%">\n	<tbody>\n		<tr>\n			<td style="vertical-align:top">\n			<div style="text-align:center"><strong><span style="color:#5E81CA"><span style="font-family:arial\,sans-serif"><span style="font-size:13.0pt">Sipping for a purpose!</span></span></span></strong><br />\n			&nbsp\;<br />\n			<span style="color:#191919"><span style="font-family:arial\,sans-serif"><span style="font-size:10.5pt">You are cordially invited to our 2023 Sipping for Scholarships Charity event presented by nonPareil Institute Orlando.</span></span></span><br />\n			&nbsp\;<br />\n			<span style="color:black"><span style="font-family:arial\,sans-serif"><span style="font-size:10.5pt">Join the movement to &quot\;Build better futures for adults with autism&quot\; in Central Florida. Let&#39\;s celebrate their work\, transform lives and the magic of inclusion\, all while raising money to provide financial hardship scholarships.&nbsp\;</span></span></span><br />\n			&nbsp\;<br />\n			<strong><span style="color:#5E81CA"><span style="font-family:arial\,sans-serif"><span style="font-size:10.5pt">Sponsorship Packages Available!</span></span></span></strong></div>\n\n			<div style="text-align:center"><span style="color:#191919"><span style="font-family:arial\,sans-serif"><span style="font-size:10.5pt">If you would like to become an event sponsor\, please contact Nelia Castro at <a href="mailto:ncastro@npitx.org">ncastro@npitx.org</a> or Lisa Lopez at <a href="mailto:Llopez@npitx.org">Llopez@npitx.org</a></span></span></span>\n\n			<table align="center" border="0" cellpadding="0" cellspacing="0" style="width:100.0%">\n				<tbody>\n					<tr>\n						<td style="vertical-align:top"><span style="color:#3E3E3E"><span style="font-family:arial\,sans-serif"><span style="font-size:10.5pt"><a href="http://events.r20.constantcontact.com/register/event?oeidk=a07eju4ht0ff2ea6450&amp\;llr=clpkjrfbb" target="_blank"><strong><span style="color:#5E81CA">Register here!</span></strong></a></span></span></span></td>\n					</tr>\n				</tbody>\n			</table>\n\n			<div>&nbsp\;</div>\n\n			<div style="text-align: left\;">&nbsp\;</div>\n\n			<div style="text-align: left\;">&nbsp\;</div>\n\n			<div style="text-align: left\;">&nbsp\;</div>\n			<span style="font-size:14px">Click here to register to our Sipping for Scholarships event: <a href="https://linktr.ee/nporlando">https://linktr.ee/nporlando</a><br />\n			&nbsp\;<br />\n			If you would like to know more about nonPareil Institute\, click here: <a href="https://npusa.org/">NonPareil - Building better futures for Adults with Autism. (npusa.org)</a><br />\n			&nbsp\;</span>\n\n			<div style="text-align: left\;">&nbsp\;</div>\n			<br />\n			&nbsp\;</div>\n			</td>\n		</tr>\n	</tbody>\n</table>\n
LOCATION:Venue on Lake Lily Maitland 641 South Maitland Ave. Maitland\, FL 32751
UID:e.3221.5051718
SEQUENCE:3
DTSTAMP:20260420T135003Z
URL:https://business.winterpark.org/events/details/sipping-for-scholarships-charity-event-presented-by-nonpareil-institute-orlando-building-better-futures-for-adults-with-autism-5051718
END:VEVENT

END:VCALENDAR
