BEGIN:VCALENDAR
VERSION:2.0
PRODID:-//ChamberMaster//Event Calendar 2.0//EN
METHOD:PUBLISH
X-PUBLISHED-TTL:P3D
REFRESH-INTERVAL:P3D
CALSCALE:GREGORIAN
BEGIN:VEVENT
DTSTART:20180423T200000Z
DTEND:20180423T204500Z
X-MICROSOFT-CDO-ALLDAYEVENT:FALSE
SUMMARY:Sensory Storytime
DESCRIPTION:Designed for kids with special needs. Offers a relaxed welcoming atmosphere geared to your child's comfort level.
X-ALT-DESC;FMTTYPE=text/html:Designed for kids with special needs. Offers a relaxed welcoming atmosphere geared to your child&#39\;s comfort level.
LOCATION:Winter Park Public Library 460 East New England Ave. Winter Park\, FL 32789
UID:e.3221.5035266
SEQUENCE:3
DTSTAMP:20260423T062700Z
URL:https://business.winterpark.org/events/details/sensory-storytime-5035266
END:VEVENT

END:VCALENDAR
