BEGIN:VCALENDAR
VERSION:2.0
PRODID:-//ChamberMaster//Event Calendar 2.0//EN
METHOD:PUBLISH
X-PUBLISHED-TTL:P3D
REFRESH-INTERVAL:P3D
CALSCALE:GREGORIAN
BEGIN:VEVENT
DTSTART:20231115T230000Z
DTEND:20231116T010000Z
X-MICROSOFT-CDO-ALLDAYEVENT:FALSE
SUMMARY:Self Awareness is Cool Mixer
DESCRIPTION:Join us on Wednesday Nov 15\, 2023 from 6:00-8:00 p.m. for our next social mixer. This is a social event for people who value therapy and the awareness that comes with learning more about yourself. $45 Price includes food and one drink. Must be 18+ to attend. Space is limited.\n\nEnders Meeting Place- 947 Fern Ave\, Orlando.
X-ALT-DESC;FMTTYPE=text/html:Join us on Wednesday Nov 15\, 2023 from 6:00-8:00 p.m. for our next social mixer. This is a social event for people who value therapy and the awareness that comes with learning more about yourself. $45 Price includes food and one drink. Must be 18+ to attend. Space is limited.<br />\nEnders Meeting Place- 947 Fern Ave\, Orlando.<br />\n&nbsp\;
LOCATION:Enders Meeting Place 947 Fern Ave Orlando
UID:e.3221.5051898
SEQUENCE:3
DTSTAMP:20260420T134619Z
URL:https://business.winterpark.org/events/details/self-awareness-is-cool-mixer-11-15-2023-5051898
END:VEVENT

END:VCALENDAR
