BEGIN:VCALENDAR
VERSION:2.0
PRODID:-//ChamberMaster//Event Calendar 2.0//EN
METHOD:PUBLISH
X-PUBLISHED-TTL:P3D
REFRESH-INTERVAL:P3D
CALSCALE:GREGORIAN
BEGIN:VEVENT
DTSTART:20200925T110000Z
DTEND:20200925T180000Z
X-MICROSOFT-CDO-ALLDAYEVENT:FALSE
SUMMARY:SCRAMBLE FOR THE COURTHOUSE CUP
DESCRIPTION:Join the Historical Society of Central Florida for a fun-filled day of golf on Friday\, September 25\, as we present our fourth annual Scramble for the Courthouse Cup.\n\n\n\nLocation: Dubsdread Golf Course\, Orlando\n\n  Registration & Continental Breakfast 7   8:30 a.m.\n\n  Shotgun Start 8:30 a.m.\n\n  Buffet Lunch and Awards after play concludes\n\n\n\nThe four-person Scramble for the Courthouse Cup is a fundraiser for the nonprofit Historical Society of Central Florida\, which supports the Orange County Regional History Center's mission "to serve as a gateway of community engagement\, education\, and inspiration by preserving and sharing Central Florida's continually unfolding story."  Funds raised at this event will support the History Center's exhibits\, informative speaker series\, and adult and youth educational programs.\n\n\n\nThis is a great opportunity to combine corporate hospitality and social responsibility\, or for golfers who just want to assemble a foursome of friends to support an important cause.\n\n\n\nTo learn more about sponsorship opportunities for the Golf Scramble\, click here. To register a foursome\, click here. For more information please contact Heidi Jordan at 407-836-8559 or Heidi.Jordan@ocfl.net.
X-ALT-DESC;FMTTYPE=text/html:<p><span style="font-size:12px"><span style="font-family:tahoma">Join the Historical Society of Central Florida for a fun-filled day of golf on Friday\,&nbsp\;September 25\, as we present our fourth annual Scramble for the Courthouse Cup.<br />\n<br />\nLocation: Dubsdread Golf Course\, Orlando<br />\n&bull\; Registration &amp\; Continental Breakfast 7 &ndash\; 8:30 a.m.<br />\n&bull\; Shotgun Start 8:30 a.m.<br />\n&bull\; Buffet Lunch and Awards after play concludes<br />\n<br />\nThe four-person Scramble for the Courthouse Cup is a fundraiser for the nonprofit Historical&nbsp\;Society of Central Florida\, which supports the Orange County Regional History Center&rsquo\;s&nbsp\;mission &ldquo\;to serve as a gateway of community engagement\, education\, and inspiration by&nbsp\;preserving and sharing Central Florida&rsquo\;s continually unfolding story.&rdquo\;&nbsp\;&nbsp\;Funds raised at this event will support the History Center&rsquo\;s exhibits\, informative speaker&nbsp\;series\, and adult and youth educational programs.<br />\n<br />\nThis is a great opportunity to combine corporate hospitality and social responsibility\, or for&nbsp\;golfers who just want to assemble a foursome of friends to support an important cause.<br />\n<br />\n<span style="color:#000000"><span style="background-color:rgb(249\, 248\, 242)">To learn more about sponsorship opportunities for&nbsp\;the Golf Scramble\, click</span></span><span style="background-color:rgb(249\, 248\, 242)\; color:rgb(142\, 141\, 121)">&nbsp\;</span><a href="http://cflhistory.org/cflhistory.org/wp-content/uploads/GolfSponsorshipPackage_2020.pdf" style="margin: 0px\; padding: 0px\; border: 0px\; outline: 0px\; font-size: 14px\; vertical-align: baseline\; background: rgb(249\, 248\, 242)\; color: rgb(224\, 32\, 0)\; transition: color 0.2s linear 0s\, background 0.2s linear 0s\; text-decoration-line: none\; font-family: Sanchez\; orphans: 4\;">here</a><span style="background-color:rgb(249\, 248\, 242)\; color:rgb(142\, 141\, 121)">.&nbsp\;</span><span style="color:#000000"><span style="background-color:rgb(249\, 248\, 242)">To register a foursome\, click</span></span><span style="background-color:rgb(249\, 248\, 242)\; color:rgb(142\, 141\, 121)">&nbsp\;</span><a href="https://10828.blackbaudhosting.com/10828/2020-Courthouse-Cup" style="margin: 0px\; padding: 0px\; border: 0px\; outline: 0px\; font-size: 14px\; vertical-align: baseline\; background: rgb(249\, 248\, 242)\; color: rgb(224\, 32\, 0)\; transition: color 0.2s linear 0s\, background 0.2s linear 0s\; text-decoration-line: none\; font-family: Sanchez\; orphans: 4\;">here</a><span style="background-color:rgb(249\, 248\, 242)\; color:rgb(142\, 141\, 121)">. </span><span style="color:#000000"><span style="background-color:rgb(249\, 248\, 242)">For more information please contact&nbsp\;Heidi Jordan&nbsp\;at&nbsp\;</span></span><a href="tel:4078368559" style="margin: 0px\; padding: 0px\; border: 0px\; outline: 0px\; font-size: 14px\; vertical-align: baseline\; background: rgb(249\, 248\, 242)\; color: rgb(224\, 32\, 0)\; transition: color 0.2s linear 0s\, background 0.2s linear 0s\; text-decoration-line: none\; font-family: Sanchez\; orphans: 4\;">407-836-8559</a><span style="background-color:rgb(249\, 248\, 242)\; color:rgb(142\, 141\, 121)">&nbsp\;</span><span style="color:#000000"><span style="background-color:rgb(249\, 248\, 242)">or</span></span><span style="background-color:rgb(249\, 248\, 242)\; color:rgb(142\, 141\, 121)">&nbsp\;</span><a href="mailto:Heidi.Jordan@ocfl.net" style="margin: 0px\; padding: 0px\; border: 0px\; outline: 0px\; font-size: 14px\; vertical-align: baseline\; background: rgb(249\, 248\, 242)\; color: rgb(224\, 32\, 0)\; transition: color 0.2s linear 0s\, background 0.2s linear 0s\; text-decoration-line: none\; font-family: Sanchez\; orphans: 4\;">Heidi.Jordan@ocfl.net</a><span style="background-color:rgb(249\, 248\, 242)\; color:rgb(142\, 141\, 121)">.</span></span></span></p>\n
LOCATION:Dubsdread Golf Course 549 W Par Street Orlando\, FL 32804
UID:e.3221.5041348
SEQUENCE:3
DTSTAMP:20260420T154205Z
URL:https://business.winterpark.org/events/details/scramble-for-the-courthouse-cup-5041348
END:VEVENT

END:VCALENDAR
