BEGIN:VCALENDAR
VERSION:2.0
PRODID:-//ChamberMaster//Event Calendar 2.0//EN
METHOD:PUBLISH
X-PUBLISHED-TTL:P3D
REFRESH-INTERVAL:P3D
CALSCALE:GREGORIAN
BEGIN:VEVENT
DTSTART:20200914T220000Z
DTEND:20200915T000000Z
X-MICROSOFT-CDO-ALLDAYEVENT:FALSE
SUMMARY:SCORE: Tackle QuickBooks Online Basics (QBO2)
DESCRIPTION:Join us to learn how to enter basic transactions - creating invoices\, making deposits\, recording expenses\, bills and checks. We will also talk about how to use bank feeds\, set up rules to save you time\, as well as walk through a standard process of how to reconcile your accounts. All this\, plus tips and tricks within the software!
X-ALT-DESC;FMTTYPE=text/html:Join us to learn how to enter basic transactions - creating invoices\, making deposits\, recording expenses\, bills and checks. We will also talk about how to use bank feeds\, set up rules to save you time\, as well as walk through a standard process of how to reconcile your accounts. All this\, plus tips and tricks within the software!
LOCATION:Online
UID:e.3221.5041357
SEQUENCE:3
DTSTAMP:20260420T160803Z
URL:https://business.winterpark.org/events/details/score-tackle-quickbooks-online-basics-qbo2-09-14-2020-5041357
END:VEVENT

END:VCALENDAR
