BEGIN:VCALENDAR
VERSION:2.0
PRODID:-//ChamberMaster//Event Calendar 2.0//EN
METHOD:PUBLISH
X-PUBLISHED-TTL:P3D
REFRESH-INTERVAL:P3D
CALSCALE:GREGORIAN
BEGIN:VEVENT
DTSTART:20201015T140000Z
DTEND:20201029T160000Z
X-MICROSOFT-CDO-ALLDAYEVENT:FALSE
SUMMARY:SCORE: Social Media 3-Part Series
DESCRIPTION:The 3-part course teaches you how to grow your business using social media. Get the steps to use social media with actionable items you'll be able to implement right there in class. This combination of lecture\, small business case studies and hands-on computer implementation will give you the tools and techniques to market your business online.
X-ALT-DESC;FMTTYPE=text/html:The 3-part course teaches you how to grow your business using social media. Get the steps to use social media with actionable items you&#39\;ll be able to implement right there in class. This combination of lecture\, small business case studies and hands-on computer implementation will give you the tools and techniques to market your business online.
LOCATION:Online
UID:e.3221.5041358
SEQUENCE:3
DTSTAMP:20260420T131105Z
URL:https://business.winterpark.org/events/details/score-social-media-3-part-series-5041358
END:VEVENT

END:VCALENDAR
