BEGIN:VCALENDAR
VERSION:2.0
PRODID:-//ChamberMaster//Event Calendar 2.0//EN
METHOD:PUBLISH
X-PUBLISHED-TTL:P3D
REFRESH-INTERVAL:P3D
CALSCALE:GREGORIAN
BEGIN:VEVENT
DTSTART:20190223T143000Z
DTEND:20190223T173000Z
X-MICROSOFT-CDO-ALLDAYEVENT:FALSE
SUMMARY:SCORE Orlando: Tax Boot Camp
DESCRIPTION:This seminar is specifically developed for small business owners who have little to no experience or understanding of the role and impact of income taxes on their businesses. It is facilitated by experienced Tax Professionals and is designed to provide ideas and tax strategies that can be shared with one's tax advisor.
X-ALT-DESC;FMTTYPE=text/html:This seminar is specifically developed for small business owners who have little to no experience or understanding of the role and impact of income taxes on their businesses. It is facilitated by experienced Tax Professionals and is designed to provide ideas and tax strategies that can be shared with one&#39\;s tax advisor.
LOCATION:National Entrepreneur Center at the Orlando Fashion Square Mall\, 3201 E Colonial Dr\, A-20\, Orlando\, FL 32803
UID:e.3221.5036056
SEQUENCE:3
DTSTAMP:20260422T013625Z
URL:https://business.winterpark.org/events/details/score-orlando-tax-boot-camp-5036056
END:VEVENT

END:VCALENDAR
