BEGIN:VCALENDAR
VERSION:2.0
PRODID:-//ChamberMaster//Event Calendar 2.0//EN
METHOD:PUBLISH
X-PUBLISHED-TTL:P3D
REFRESH-INTERVAL:P3D
CALSCALE:GREGORIAN
BEGIN:VEVENT
DTSTART:20200402T130000Z
DTEND:20200402T150000Z
X-MICROSOFT-CDO-ALLDAYEVENT:FALSE
SUMMARY:SCORE Orlando: Paychex - FLSA
DESCRIPTION:This Paychex seminar covers the basic guidelines\, rules and regulations for paying exempt and non-exempt employees. (Continental Breakfast included)
X-ALT-DESC;FMTTYPE=text/html:This Paychex seminar covers the basic guidelines\, rules and regulations for paying exempt and non-exempt employees. (Continental Breakfast included)
LOCATION:National Entrepreneur Center - Fashion Square Mall 3201 E. Colonial Dr. Suite A-20 Orlando\, FL 32803
UID:e.3221.5039559
SEQUENCE:3
DTSTAMP:20260421T023348Z
URL:https://business.winterpark.org/events/details/score-orlando-paychex-flsa-5039559
END:VEVENT

END:VCALENDAR
