BEGIN:VCALENDAR
VERSION:2.0
PRODID:-//ChamberMaster//Event Calendar 2.0//EN
METHOD:PUBLISH
X-PUBLISHED-TTL:P3D
REFRESH-INTERVAL:P3D
CALSCALE:GREGORIAN
BEGIN:VEVENT
DTSTART:20190212T230000Z
DTEND:20190213T020000Z
X-MICROSOFT-CDO-ALLDAYEVENT:FALSE
SUMMARY:SCORE Orlando: Marketing Your Business Seminar
DESCRIPTION:For people who want to obtain trial by customers and growth for their business\, whether it is a product\, service or both. It explains various marketing strategies and contains many practical marketing tips. It will help you define your mission\, analyze your situation\, conduct research\, identify your target market\, and develop your marketing mix.
X-ALT-DESC;FMTTYPE=text/html:For people who want to obtain trial by customers and growth for their business\, whether it is a product\, service or both. It explains various marketing strategies and contains many practical marketing tips. It will help you define your mission\, analyze your situation\, conduct research\, identify your target market\, and develop your marketing mix.
LOCATION:National Entrepreneur Center at the Orlando Fashion Square Mall\, 3201 E Colonial Dr\, A-20\, Orlando\, FL 32803
UID:e.3221.5036052
SEQUENCE:3
DTSTAMP:20260422T015937Z
URL:https://business.winterpark.org/events/details/score-orlando-marketing-your-business-seminar-02-12-2019-5036052
END:VEVENT

END:VCALENDAR
