BEGIN:VCALENDAR
VERSION:2.0
PRODID:-//ChamberMaster//Event Calendar 2.0//EN
METHOD:PUBLISH
X-PUBLISHED-TTL:P3D
REFRESH-INTERVAL:P3D
CALSCALE:GREGORIAN
BEGIN:VEVENT
DTSTART:20200321T133000Z
DTEND:20200321T163000Z
X-MICROSOFT-CDO-ALLDAYEVENT:FALSE
SUMMARY:SCORE Orlando: Intermediate Social Media Marketing
DESCRIPTION:This course not only builds on the basics social media course\, but goes several steps further. You'll learn how to properly place a holistic social media strategy in side your overall marketing strategy. You'll also learn social media campaigns and systems that needed for successful marketing strategies.
X-ALT-DESC;FMTTYPE=text/html:This course not only builds on the basics social media course\, but goes several steps further. You&rsquo\;ll learn how to properly place a holistic social media strategy in side your overall marketing strategy. You&rsquo\;ll also learn social media campaigns and systems that needed for successful marketing strategies.
LOCATION:National Entrepreneur Center - Fashion Square Mall 3201 E. Colonial Dr. Suite A-20 Orlando\, FL 32803
UID:e.3221.5039553
SEQUENCE:3
DTSTAMP:20260421T043942Z
URL:https://business.winterpark.org/events/details/score-orlando-intermediate-social-media-marketing-5039553
END:VEVENT

END:VCALENDAR
