BEGIN:VCALENDAR
VERSION:2.0
PRODID:-//ChamberMaster//Event Calendar 2.0//EN
METHOD:PUBLISH
X-PUBLISHED-TTL:P3D
REFRESH-INTERVAL:P3D
CALSCALE:GREGORIAN
BEGIN:VEVENT
DTSTART:20200423T220000Z
DTEND:20200424T010000Z
X-MICROSOFT-CDO-ALLDAYEVENT:FALSE
SUMMARY:SCORE Orlando: How To Be Effective At Sales
DESCRIPTION:This class will teach you the step-by-step process of selling. While the entire process of outbound sales is covered\, the majority of the material also applies to retail and inbound sales environments. This class is very interactive with role-playing exercises.
X-ALT-DESC;FMTTYPE=text/html:This class will teach you the step-by-step process of selling. While the entire process of outbound sales is covered\, the majority of the material also applies to retail and inbound sales environments. This class is very interactive with role-playing exercises.
LOCATION:NEC 3201 E. Colonial Dr. Suite A-20 Orlando\, FL 32803
UID:e.3221.5039572
SEQUENCE:3
DTSTAMP:20260421T043845Z
URL:https://business.winterpark.org/events/details/score-orlando-how-to-be-effective-at-sales-04-23-2020-5039572
END:VEVENT

END:VCALENDAR
