BEGIN:VCALENDAR
VERSION:2.0
PRODID:-//ChamberMaster//Event Calendar 2.0//EN
METHOD:PUBLISH
X-PUBLISHED-TTL:P3D
REFRESH-INTERVAL:P3D
CALSCALE:GREGORIAN
BEGIN:VEVENT
DTSTART:20200328T133000Z
DTEND:20200328T163000Z
X-MICROSOFT-CDO-ALLDAYEVENT:FALSE
SUMMARY:SCORE Orlando: Building Your Business Plan
DESCRIPTION:Designed for anyone who has done their business research\, most of their marketing plan\, and understands some basic accounting and finance. It explains the purposes and value of a plan and uses a content template to help determine what goes into each section of this plan.
X-ALT-DESC;FMTTYPE=text/html:Designed for anyone who has done their business research\, most of their marketing plan\, and understands some basic accounting and finance. It explains the purposes and value of a plan and uses a content template to help determine what goes into each section of this plan.
LOCATION:National Entrepreneur Center - Fashion Square Mall 3201 E. Colonial Dr. Suite A-20 Orlando\, FL 32803
UID:e.3221.5039554
SEQUENCE:3
DTSTAMP:20260421T043845Z
URL:https://business.winterpark.org/events/details/score-orlando-building-your-business-plan-03-28-2020-5039554
END:VEVENT

END:VCALENDAR
