BEGIN:VCALENDAR
VERSION:2.0
PRODID:-//ChamberMaster//Event Calendar 2.0//EN
METHOD:PUBLISH
X-PUBLISHED-TTL:P3D
REFRESH-INTERVAL:P3D
CALSCALE:GREGORIAN
BEGIN:VEVENT
DTSTART:20180323T130000Z
DTEND:20180323T153000Z
X-MICROSOFT-CDO-ALLDAYEVENT:FALSE
SUMMARY:SCORE: Fair Labor Standards Act (FLSA)
DESCRIPTION:
X-ALT-DESC;FMTTYPE=text/html:
LOCATION:NEC at the Orlando Fashion Square Mall
UID:e.3221.5035159
SEQUENCE:3
DTSTAMP:20260423T113143Z
URL:https://business.winterpark.org/events/details/score-fair-labor-standards-act-flsa-5035159
END:VEVENT

END:VCALENDAR
