BEGIN:VCALENDAR
VERSION:2.0
PRODID:-//ChamberMaster//Event Calendar 2.0//EN
METHOD:PUBLISH
X-PUBLISHED-TTL:P3D
REFRESH-INTERVAL:P3D
CALSCALE:GREGORIAN
BEGIN:VEVENT
DTSTART:20201029T220000Z
DTEND:20201029T230000Z
X-MICROSOFT-CDO-ALLDAYEVENT:FALSE
SUMMARY:Richard Farrell and Amy Jo Burns Virtual Event
DESCRIPTION:Writer's Block is delighted to host authors Amy Jo Burns\, SHINER\, and Richard Farrell\, THE FALLING WOMAN\, for a virtual Zoom event to celebrate the launch of their newest releases. Date: Thursday\, October 29\, 2020 Time: 6:00 PM EST Ticket Cost: Book Price   SHINER by Amy Jo Burns and/or THE FALLING WOMAN\, by Richard Farrell   book purchase includes entry into the event A Zoom link for entry will be sent to registrants on October 26\, then again on the day of the event. The ticket price does NOT include shipping. Please add shipping costs if you would like the book(s) sent to you. Books will be shipped after the event.
X-ALT-DESC;FMTTYPE=text/html:Writer&rsquo\;s Block is delighted to host authors Amy Jo Burns\, SHINER\, and Richard Farrell\, THE FALLING WOMAN\, for a virtual Zoom event to celebrate the launch of their newest releases. Date: Thursday\, October 29\, 2020 Time: 6:00 PM EST Ticket Cost: Book Price &mdash\; SHINER by Amy Jo Burns and/or THE FALLING WOMAN\, by Richard Farrell &mdash\; book purchase includes entry into the event A Zoom link for entry will be sent to registrants on October 26\, then again on the day of the event. The ticket price does NOT include shipping. Please add shipping costs if you would like the book(s) sent to you. Books will be shipped after the event.
LOCATION:Virtual Event
UID:e.3221.5041432
SEQUENCE:3
DTSTAMP:20260420T101838Z
URL:https://business.winterpark.org/events/details/richard-farrell-and-amy-jo-burns-virtual-event-5041432
END:VEVENT

END:VCALENDAR
