BEGIN:VCALENDAR
VERSION:2.0
PRODID:-//ChamberMaster//Event Calendar 2.0//EN
METHOD:PUBLISH
X-PUBLISHED-TTL:P3D
REFRESH-INTERVAL:P3D
CALSCALE:GREGORIAN
BEGIN:VEVENT
DTSTART:20200323T223000Z
DTEND:20200324T003000Z
X-MICROSOFT-CDO-ALLDAYEVENT:FALSE
SUMMARY:Q&A and Author Signing: BLACK WIDOW by Leslie Gray Streeter!
DESCRIPTION:Celebrate a moving story of hope\, love\, and overcoming grief with author Leslie Gray Streeter at 6:30 pm on Monday\, March 23! This event will include a discussion of Black Widow\, Q&A\, and signing.
X-ALT-DESC;FMTTYPE=text/html:<div><span style="color:rgb(40\, 60\, 70)\; font-family:graphik\,helvetica neue\,helvetica\,apple color emoji\,arial\,sans-serif\; font-size:16px">Celebrate a moving story of hope\, love\, and overcoming grief with author Leslie Gray Streeter at 6:30 pm on Monday\, March 23! This event will include a discussion of&nbsp\;</span><em>Black Widow\,&nbsp\;</em><span style="color:rgb(40\, 60\, 70)\; font-family:graphik\,helvetica neue\,helvetica\,apple color emoji\,arial\,sans-serif\; font-size:16px">Q&amp\;A\, and signing.&nbsp\;&nbsp\;</span></div>\n\n<div>&nbsp\;</div>\n
LOCATION:Writer's Block Bookstore 316 N. Park Avenue Winter Park\, FL 32789
UID:e.3221.5039546
SEQUENCE:3
DTSTAMP:20260421T043821Z
URL:https://business.winterpark.org/events/details/q-a-and-author-signing-black-widow-by-leslie-gray-streeter-5039546
END:VEVENT

END:VCALENDAR
