BEGIN:VCALENDAR
VERSION:2.0
PRODID:-//ChamberMaster//Event Calendar 2.0//EN
METHOD:PUBLISH
X-PUBLISHED-TTL:P3D
REFRESH-INTERVAL:P3D
CALSCALE:GREGORIAN
BEGIN:VEVENT
DTSTART:20180312T150000Z
DTEND:20180312T170000Z
X-MICROSOFT-CDO-ALLDAYEVENT:FALSE
SUMMARY:Professional Headshots
DESCRIPTION:In need of a new professional headshot? Sign up to take advantage of special discounted pricing for our members.\n\nHeadshots will be taken by Jen Adams Photography.
X-ALT-DESC;FMTTYPE=text/html:<span style="color: rgb(64\, 63\, 66)\; font-family: Arial\, Verdana\, Helvetica\, sans-serif\; font-size: 12px\; white-space: pre-wrap\;"><span style="font-size:14px\;">In need of a new professional headshot? Sign up to take advantage of special discounted pricing for our members.</span></span><br />\n<span style="font-size:14px\;">Headshots will be taken by Jen Adams Photography.</span>
LOCATION:Winter Park Chamber of Commerce 151 W Lyman Ave Winter Park\, FL 32789
UID:e.3221.5035247
SEQUENCE:3
DTSTAMP:20260423T095310Z
URL:https://business.winterpark.org/events/details/professional-headshots-5035247
END:VEVENT

END:VCALENDAR
