BEGIN:VCALENDAR
VERSION:2.0
PRODID:-//ChamberMaster//Event Calendar 2.0//EN
METHOD:PUBLISH
X-PUBLISHED-TTL:P3D
REFRESH-INTERVAL:P3D
CALSCALE:GREGORIAN
BEGIN:VEVENT
DTSTART:20200312T163000Z
DTEND:20200312T173000Z
X-MICROSOFT-CDO-ALLDAYEVENT:FALSE
SUMMARY:Presentation: Chocolate\, Blood\, and VHS Tapes: Problems and Solutions in Contemporary Art Conservation
DESCRIPTION:This presentation with Dr. Susan Libby\, Professor of Art History and Rollins College student Isaac Gorres will explore the challenges of conserving and preserving contemporary works of art made with unconventional materials. The presenters will discuss works currently on view as well as a selection of special pieces from the art vault.
X-ALT-DESC;FMTTYPE=text/html:This presentation with Dr. Susan Libby\, Professor of Art History and Rollins College student Isaac Gorres will explore the challenges of conserving and preserving contemporary works of art made with unconventional materials. The presenters will discuss works currently on view as well as a selection of special pieces from the art vault.
LOCATION:Cornell Fine Arts Museum\, Rollins College
UID:e.3221.5039364
SEQUENCE:3
DTSTAMP:20260421T043821Z
URL:https://business.winterpark.org/events/details/presentation-chocolate-blood-and-vhs-tapes-problems-and-solutions-in-contemporary-art-conservation-5039364
END:VEVENT

END:VCALENDAR
