BEGIN:VCALENDAR
VERSION:2.0
PRODID:-//ChamberMaster//Event Calendar 2.0//EN
METHOD:PUBLISH
X-PUBLISHED-TTL:P3D
REFRESH-INTERVAL:P3D
CALSCALE:GREGORIAN
BEGIN:VEVENT
DTSTART:20180414T160000Z
DTEND:20180414T160000Z
X-MICROSOFT-CDO-ALLDAYEVENT:FALSE
SUMMARY:Passport Saturdays
DESCRIPTION:Planning a family vacation? Excited for a study abroad program or mission trip? It all starts here at the Clerk's Office. Visit us on two separate Saturdays in April to apply for a passport. Whether you live in Orange or any Central Florida County\, join us for Passport Saturdays\, April 14 and April 28\, 2018. Our Winter Park location will be open from 9:00 a.m.   2:00 p.m.\, making it easier than ever to get a passport for you or your child.
X-ALT-DESC;FMTTYPE=text/html:Planning a family vacation? Excited for a study abroad program or mission trip? It all starts here at the Clerk&rsquo\;s Office. Visit us on two separate Saturdays in April to apply for a passport. Whether you live in Orange or any Central Florida County\, join us for Passport Saturdays\, April 14 and April 28\, 2018. Our Winter Park location will be open from 9:00 a.m. &ndash\; 2:00 p.m.\, making it easier than ever to get a passport for you or your child.
LOCATION:450 N. Lakemont Ave. Winter Park\, FL 32792
UID:e.3221.5035257
SEQUENCE:3
DTSTAMP:20260423T095309Z
URL:https://business.winterpark.org/events/details/passport-saturdays-5035257
END:VEVENT

END:VCALENDAR
