BEGIN:VCALENDAR
VERSION:2.0
PRODID:-//ChamberMaster//Event Calendar 2.0//EN
METHOD:PUBLISH
X-PUBLISHED-TTL:P3D
REFRESH-INTERVAL:P3D
CALSCALE:GREGORIAN
BEGIN:VEVENT
DTSTART:20180327T193000Z
DTEND:20180327T203000Z
X-MICROSOFT-CDO-ALLDAYEVENT:FALSE
SUMMARY:Park Smiles Dentistry at The Mayflower
DESCRIPTION:Presentation!!! Dental Issues Affecting the Aging Population Dr. Drew Byrnes of Park Smiles Dentistry will address dental problems experienced by the aging population. The topics will include how to keep your teeth for the rest of your life\, what to do about missing teeth or ill fitting dentures\, dry mouth\, and advances in modern dentistry. If none of those topics sound entertaining to you\, then just come for the wine and cheese! It will be a great time with fun giveaways. Dr. Byrnes' office\, Park Smiles Dentistry\, has been serving Winter Park residents since 1939. His predecessors\, Dr. Alan Price and Dr. Wilbur Jennings had a reputation for excellent patient care. Dr. Byrnes is carrying their legacy forward by treating people the way that he would want to be treated. His goal is to make dentistry as easy as a walk in the park. Be sure to join us for this informative program and don't forget to bring a friend!
X-ALT-DESC;FMTTYPE=text/html:Presentation!!! Dental Issues Affecting the Aging Population Dr. Drew Byrnes of Park Smiles Dentistry will address dental problems experienced by the aging population. The topics will include how to keep your teeth for the rest of your life\, what to do about missing teeth or ill fitting dentures\, dry mouth\, and advances in modern dentistry. If none of those topics sound entertaining to you\, then just come for the wine and cheese! It will be a great time with fun giveaways. Dr. Byrnes&#39\; office\, Park Smiles Dentistry\, has been serving Winter Park residents since 1939. His predecessors\, Dr. Alan Price and Dr. Wilbur Jennings had a reputation for excellent patient care. Dr. Byrnes is carrying their legacy forward by treating people the way that he would want to be treated. His goal is to make dentistry as easy as a walk in the park. Be sure to join us for this informative program and don&#39\;t forget to bring a friend!
LOCATION:The Mayflower 1620 Mayflower Ct\, Winter Park\, FL 32792
UID:e.3221.5035255
SEQUENCE:3
DTSTAMP:20260423T095425Z
URL:https://business.winterpark.org/events/details/park-smiles-dentistry-at-the-mayflower-5035255
END:VEVENT

END:VCALENDAR
